BEGIN:VCALENDAR
VERSION:2.0
PRODID:-//National Museum of Wildlife Art - ECPv6.15.20//NONSGML v1.0//EN
CALSCALE:GREGORIAN
METHOD:PUBLISH
X-WR-CALNAME:National Museum of Wildlife Art
X-ORIGINAL-URL:https://www.wildlifeart.org
X-WR-CALDESC:Events for National Museum of Wildlife Art
REFRESH-INTERVAL;VALUE=DURATION:PT1H
X-Robots-Tag:noindex
X-PUBLISHED-TTL:PT1H
BEGIN:VTIMEZONE
TZID:America/Denver
BEGIN:DAYLIGHT
TZOFFSETFROM:-0700
TZOFFSETTO:-0600
TZNAME:MDT
DTSTART:20220313T090000
END:DAYLIGHT
BEGIN:STANDARD
TZOFFSETFROM:-0600
TZOFFSETTO:-0700
TZNAME:MST
DTSTART:20221106T080000
END:STANDARD
BEGIN:DAYLIGHT
TZOFFSETFROM:-0700
TZOFFSETTO:-0600
TZNAME:MDT
DTSTART:20230312T090000
END:DAYLIGHT
BEGIN:STANDARD
TZOFFSETFROM:-0600
TZOFFSETTO:-0700
TZNAME:MST
DTSTART:20231105T080000
END:STANDARD
BEGIN:DAYLIGHT
TZOFFSETFROM:-0700
TZOFFSETTO:-0600
TZNAME:MDT
DTSTART:20240310T090000
END:DAYLIGHT
BEGIN:STANDARD
TZOFFSETFROM:-0600
TZOFFSETTO:-0700
TZNAME:MST
DTSTART:20241103T080000
END:STANDARD
END:VTIMEZONE
BEGIN:VEVENT
DTSTART;VALUE=DATE:20230404
DTEND;VALUE=DATE:20230407
DTSTAMP:20260420T022427
CREATED:20230315T181046Z
LAST-MODIFIED:20230315T181252Z
UID:2482-1680566400-1680825599@www.wildlifeart.org
SUMMARY:Spring Break Art Experience
DESCRIPTION:Week 2: April 4 – 6\nBirds: Watercolor Painting Inspired by Lars Jonsson \nTuesday\, April 4 \n\n1 – 2 p.m. Instructor-led class (*registration required)\n2 – 4 p.m. Open Studio (drop-in\, registration not required)\n\nWednesday\, April 5: Open Studio with watercolor materials \n\n2 – 4 p.m. (drop-in\, registration not required)\n\nThursday\, April 6: Open Studio with watercolor materials \n\n10 a.m. – 12 p.m. (drop-in\, registration not required)\n\nFor questions and registration\, contact Julia Spencer\, associate curator of education and outreach\, at jspencer@wildlifeart.org\, (307) 732-5435.\n*When you arrive\, just let the front desk know you are here for Spring Break Art Studio and they will waive your admission fee and direct you to the classroom! \n\n		\n		\n			\n				\n			\n			\n				\n			\n		\n\n  \nArts for All is funded by Teton County\, Wyoming and is currently facilitated by JH Public Art.\n \nImage credit:\nLars Jonsson (Sweden\, b. 1952)\, Sketch for the painting Rest After a Long Flight\, 1999. Graphite on paper. 8 3/4 × 11 1/2 inches. National Museum of Wildlife Art. © Lars Jonsson.
URL:https://www.wildlifeart.org/events/spring-break-art-experience-2
ATTACH;FMTTYPE=image/jpeg:https://www.wildlifeart.org/wp-content/uploads/2023/03/NMWA_November_First_Sunday_Classroom_2022-scaled.jpg
END:VEVENT
BEGIN:VEVENT
DTSTART;TZID=America/Denver:20230420T170000
DTEND;TZID=America/Denver:20230420T190000
DTSTAMP:20260420T022427
CREATED:20230322T201528Z
LAST-MODIFIED:20230406T214503Z
UID:2493-1682010000-1682017200@www.wildlifeart.org
SUMMARY:Canines\, Cake Pops & Conservation
DESCRIPTION:Join us for a thought-provoking evening of conversation and art appreciation. This special programming is presented in partnership with Yellowstone to Yukon Conservation Initiative. Doors will open at 5pm and attendees can enjoy a cash bar and free cake pops. The interactive sculpting presentation will begin promptly at 5:30pm. Attendees are encouraged to explore the current exhibitions on view\, For the Love of Canines and Wolves: Photography by Ronan Donovan. \nSculptor George Bumann will lead attendees on an artistic journey following the story of one of Yellowstone’s most famous wolves. Through a live\, interactive sculpture demonstration\, audience input will be woven into an evolving sculpture that takes shape before your eyes. Attendees will gain insights into the artist’s process and how we derive meaning from art. The program will put a spotlight on how personal experiences with wild landscapes\, interwoven with power of art and story\, become part of the connective tissue that binds us to the places that we love as we strive to protect them. \n  \nAbout the Artist:\nGeorge Bumann (rhymes with ‘human’) is a professional sculptor living with his wife\, young son\, and black Labrador Hobbes\, at Yellowstone Park’s northern entrance in Gardiner\, Montana. A life-long observer of nature\, Bumann holds both Bachelor’s and Master’s degrees in wildlife ecology and has worked in the fields of wildlife research\, taxidermy\, back-country guiding\, environmental consulting and has taught art and natural history programs for youth\, adult\, and university audiences for over three decades. \nBumann’s work can be found in collections and exhibits throughout the United States and around the globe. His sculptures reside in the permanent collections of the National Museum of Wildlife Art in Jackson Hole\, Wyoming\, the Brinton Museum in Big Horn\, Wyoming\, the Booth Museum of Western Art in Cartersville\, GA\, and the C.M. Russell Museum in Great Falls\, Montana. George’s art and educational outreach have been featured in publications such as the Salt Lake City Tribune\, Los Angeles Times\, Washington Post\, Sacramento Bee\, and on television\, radio\, and online through the Canadian Broadcasting Corporation (CBC)\, Travel Channel\, Discovery Channel\, and Tedx Bozeman. \nHe is currently writing a book on the topic of animal language with Greystone Press.
URL:https://www.wildlifeart.org/events/canines-cake-pops-conservation
ATTACH;FMTTYPE=application/pdf:https://www.wildlifeart.org/wp-content/uploads/2023/03/Copy-of-Canines-Conservation-Cakepops-4-x-5.pdf
END:VEVENT
END:VCALENDAR